BEGIN:VCALENDAR
VERSION:2.0
PRODID:-//Deutscher Arnis Verband e.V. - ECPv6.15.20//NONSGML v1.0//EN
CALSCALE:GREGORIAN
METHOD:PUBLISH
X-ORIGINAL-URL:https://modern-arnis.de
X-WR-CALDESC:Veranstaltungen für Deutscher Arnis Verband e.V.
REFRESH-INTERVAL;VALUE=DURATION:PT1H
X-Robots-Tag:noindex
X-PUBLISHED-TTL:PT1H
BEGIN:VTIMEZONE
TZID:Europe/Berlin
BEGIN:DAYLIGHT
TZOFFSETFROM:+0100
TZOFFSETTO:+0200
TZNAME:CEST
DTSTART:20230326T010000
END:DAYLIGHT
BEGIN:STANDARD
TZOFFSETFROM:+0200
TZOFFSETTO:+0100
TZNAME:CET
DTSTART:20231029T010000
END:STANDARD
BEGIN:DAYLIGHT
TZOFFSETFROM:+0100
TZOFFSETTO:+0200
TZNAME:CEST
DTSTART:20240331T010000
END:DAYLIGHT
BEGIN:STANDARD
TZOFFSETFROM:+0200
TZOFFSETTO:+0100
TZNAME:CET
DTSTART:20241027T010000
END:STANDARD
BEGIN:DAYLIGHT
TZOFFSETFROM:+0100
TZOFFSETTO:+0200
TZNAME:CEST
DTSTART:20250330T010000
END:DAYLIGHT
BEGIN:STANDARD
TZOFFSETFROM:+0200
TZOFFSETTO:+0100
TZNAME:CET
DTSTART:20251026T010000
END:STANDARD
BEGIN:DAYLIGHT
TZOFFSETFROM:+0100
TZOFFSETTO:+0200
TZNAME:CEST
DTSTART:20260329T010000
END:DAYLIGHT
BEGIN:STANDARD
TZOFFSETFROM:+0200
TZOFFSETTO:+0100
TZNAME:CET
DTSTART:20261025T010000
END:STANDARD
BEGIN:DAYLIGHT
TZOFFSETFROM:+0100
TZOFFSETTO:+0200
TZNAME:CEST
DTSTART:20270328T010000
END:DAYLIGHT
BEGIN:STANDARD
TZOFFSETFROM:+0200
TZOFFSETTO:+0100
TZNAME:CET
DTSTART:20271031T010000
END:STANDARD
END:VTIMEZONE
BEGIN:VEVENT
DTSTART;TZID=Europe/Berlin:20260314T130000
DTEND;TZID=Europe/Berlin:20260314T170000
DTSTAMP:20260424T113915
CREATED:20260131T202734Z
LAST-MODIFIED:20260131T202734Z
UID:10000201-1773493200-1773507600@modern-arnis.de
SUMMARY:M Benedikt Eska\, 6.DAN Modern Arnis
DESCRIPTION:
URL:https://modern-arnis.de/events/m-benedikt-eska-6-dan-modern-arnis/
LOCATION:FC Sindlbach\, Sindlbacher Hauptstr. 1\, Berg\, Bayern\, 92348\, Deutschland
ORGANIZER;CN="J%C3%BCrgen M%C3%A4rz":MAILTO:Mitmachen@arnis-oberpfalz.de
END:VEVENT
BEGIN:VEVENT
DTSTART;VALUE=DATE:20250322
DTEND;VALUE=DATE:20250324
DTSTAMP:20260424T113915
CREATED:20241217T204559Z
LAST-MODIFIED:20250119T105523Z
UID:10000133-1742601600-1742774399@modern-arnis.de
SUMMARY:SM Ingo Hutschenreuter\, 7. DAN Modern Arnis - Sindlbach
DESCRIPTION:
URL:https://modern-arnis.de/events/sm-ingo-hutschenreuter-7-dan-modern-arnis-sindlbach/
LOCATION:FC Sindlbach\, Sindlbacher Hauptstr. 1\, Berg\, Bayern\, 92348\, Deutschland
ORGANIZER;CN="J%C3%BCrgen M%C3%A4rz":MAILTO:Mitmachen@arnis-oberpfalz.de
END:VEVENT
BEGIN:VEVENT
DTSTART;VALUE=DATE:20240308
DTEND;VALUE=DATE:20240311
DTSTAMP:20260424T113915
CREATED:20231113T154647Z
LAST-MODIFIED:20240116T232228Z
UID:10000033-1709938800-1710111599@modern-arnis.de
SUMMARY:M Michael Naber\, 6. DAN Modern Arnis – Sindlbach
DESCRIPTION:[pdfjs-viewer url=”https://modern-arnis.de/wp-content/uploads/2023/12/Flyer-Lehrgang-Michael-Naber-2024.pdf” attachment_id=”2091″ viewer_width=100% viewer_height=800px fullscreen=false download=true print=true]
URL:https://modern-arnis.de/events/m-michael-naber-6-dan-modern-arnis-sindlbach/
LOCATION:FC Sindlbach\, Sindlbacher Hauptstr. 1\, Berg\, Bayern\, 92348\, Deutschland
ORGANIZER;CN="J%C3%BCrgen M%C3%A4rz":MAILTO:Mitmachen@arnis-oberpfalz.de
END:VEVENT
END:VCALENDAR