BEGIN:VCALENDAR
VERSION:2.0
PRODID:-//Deutscher Arnis Verband e.V. - ECPv6.15.20//NONSGML v1.0//EN
CALSCALE:GREGORIAN
METHOD:PUBLISH
X-WR-CALNAME:Deutscher Arnis Verband e.V.
X-ORIGINAL-URL:https://modern-arnis.de
X-WR-CALDESC:Veranstaltungen für Deutscher Arnis Verband e.V.
REFRESH-INTERVAL;VALUE=DURATION:PT1H
X-Robots-Tag:noindex
X-PUBLISHED-TTL:PT1H
BEGIN:VTIMEZONE
TZID:Europe/Berlin
BEGIN:DAYLIGHT
TZOFFSETFROM:+0100
TZOFFSETTO:+0200
TZNAME:CEST
DTSTART:20220327T010000
END:DAYLIGHT
BEGIN:STANDARD
TZOFFSETFROM:+0200
TZOFFSETTO:+0100
TZNAME:CET
DTSTART:20221030T010000
END:STANDARD
BEGIN:DAYLIGHT
TZOFFSETFROM:+0100
TZOFFSETTO:+0200
TZNAME:CEST
DTSTART:20230326T010000
END:DAYLIGHT
BEGIN:STANDARD
TZOFFSETFROM:+0200
TZOFFSETTO:+0100
TZNAME:CET
DTSTART:20231029T010000
END:STANDARD
BEGIN:DAYLIGHT
TZOFFSETFROM:+0100
TZOFFSETTO:+0200
TZNAME:CEST
DTSTART:20240331T010000
END:DAYLIGHT
BEGIN:STANDARD
TZOFFSETFROM:+0200
TZOFFSETTO:+0100
TZNAME:CET
DTSTART:20241027T010000
END:STANDARD
BEGIN:DAYLIGHT
TZOFFSETFROM:+0100
TZOFFSETTO:+0200
TZNAME:CEST
DTSTART:20250330T010000
END:DAYLIGHT
BEGIN:STANDARD
TZOFFSETFROM:+0200
TZOFFSETTO:+0100
TZNAME:CET
DTSTART:20251026T010000
END:STANDARD
BEGIN:DAYLIGHT
TZOFFSETFROM:+0100
TZOFFSETTO:+0200
TZNAME:CEST
DTSTART:20260329T010000
END:DAYLIGHT
BEGIN:STANDARD
TZOFFSETFROM:+0200
TZOFFSETTO:+0100
TZNAME:CET
DTSTART:20261025T010000
END:STANDARD
END:VTIMEZONE
BEGIN:VEVENT
DTSTART;TZID=Europe/Berlin:20250629T120000
DTEND;TZID=Europe/Berlin:20250629T160000
DTSTAMP:20260424T174050
CREATED:20250519T214548Z
LAST-MODIFIED:20250609T193122Z
UID:10000162-1751198400-1751212800@modern-arnis.de
SUMMARY:SM Carsten Hemmersbach\, 7.DAN Modern Arnis – Velbert
DESCRIPTION:
URL:https://modern-arnis.de/events/sm-carsten-hemmersbach-7-dan-modern-arnis-velbert/
LOCATION:Sportanlage Nizzatal\, Panner Str.36\, Velbert Langenberg\, NRW\, 42555\, Deutschland
ORGANIZER;CN="Martin Kosa":MAILTO:mk@punyo.de
END:VEVENT
BEGIN:VEVENT
DTSTART;VALUE=DATE:20250330
DTEND;VALUE=DATE:20250331
DTSTAMP:20260424T174050
CREATED:20250204T064756Z
LAST-MODIFIED:20250204T211737Z
UID:10000152-1743292800-1743379199@modern-arnis.de
SUMMARY:GM Datu Dieter Knüttel\, 10. DAN Modern Arnis – Haan (zwischen Düsseldorf und Wuppertal)
DESCRIPTION:Einsatzmöglichkeiten vom Impact Karambit sowie\nNervendruckpunkte. Impact Karambit werden auf dem\nLehrgang in begrenzter Stückzahl zum Kauf angeboten.
URL:https://modern-arnis.de/events/gm-datu-dieter-knuettel-10-dan-modern-arnis-haan-zwischen-duesseldorf-und-wuppertal/
LOCATION:MAV in der Pazuru Kampfkunstschule\, Dieselstraße 5\, Haan\, NRW\, 42781\, Deutschland
ORGANIZER;CN="Martin Kosa":MAILTO:mk@punyo.de
END:VEVENT
BEGIN:VEVENT
DTSTART;TZID=Europe/Berlin:20250112T120000
DTEND;TZID=Europe/Berlin:20250112T160000
DTSTAMP:20260424T174050
CREATED:20240916T121503Z
LAST-MODIFIED:20240916T121503Z
UID:10000096-1736683200-1736697600@modern-arnis.de
SUMMARY:M Michael Naber\, 6.DAN Modern Arnis - Velbert Langenberg
DESCRIPTION:Techniken bzw. Kombinationen gegen Faustangriffe. Vor dem Lehrgang gibt es ab 10 Uhr eine Prüfungsmöglichkeit bis 1.Klase.
URL:https://modern-arnis.de/events/m-michael-naber-6-dan-modern-arnis-velbert-langenberg/
LOCATION:Sportanlage Nizzatal\, Panner Str.36\, Velbert Langenberg\, NRW\, 42555\, Deutschland
ORGANIZER;CN="Martin Kosa":MAILTO:mk@punyo.de
END:VEVENT
BEGIN:VEVENT
DTSTART;TZID=Europe/Berlin:20240414T090000
DTEND;TZID=Europe/Berlin:20240414T130000
DTSTAMP:20260424T174050
CREATED:20240129T223633Z
LAST-MODIFIED:20240129T223633Z
UID:10000063-1713085200-1713099600@modern-arnis.de
SUMMARY:M Markus Kenkmann\, 6. DAN Modern Arnis – Velbert
DESCRIPTION:[pdfjs-viewer url=”https://modern-arnis.de/wp-content/uploads/2024/01/LG14042024MAV.pdf” attachment_id=”2091″ viewer_width=100% viewer_height=800px fullscreen=false download=true print=true]
URL:https://modern-arnis.de/events/m-markus-kenkmann-6-dan-modern-arnis-velbert/
LOCATION:Sportanlage Nizzatal\, Panner Str.36\, Velbert Langenberg\, NRW\, 42555\, Deutschland
ORGANIZER;CN="Martin Kosa":MAILTO:mk@punyo.de
END:VEVENT
BEGIN:VEVENT
DTSTART;TZID=Europe/Berlin:20231112T110000
DTEND;TZID=Europe/Berlin:20231112T150000
DTSTAMP:20260424T174050
CREATED:20230812T064520Z
LAST-MODIFIED:20231025T150005Z
UID:10000009-1699786800-1699801200@modern-arnis.de
SUMMARY:GM Datu Dieter Knüttel\, 10. DAN Modern Arnis - Velbert
DESCRIPTION:[pdfjs-viewer url=”https://modern-arnis.de/wp-content/uploads/2023/10/Ausschreibung12112023.pdf” attachment_id=”2091″ viewer_width=100% viewer_height=800px fullscreen=false download=true print=true] \n  \n  \n 
URL:https://modern-arnis.de/events/gm-datu-dieter-knuettel-10-dan-velbert/
LOCATION:Sporthalle Waldschlösschen\, Waldschlößchen 37\, Velbert\, 42553
ORGANIZER;CN="Martin Kosa":MAILTO:mk@punyo.de
END:VEVENT
END:VCALENDAR