BEGIN:VCALENDAR
VERSION:2.0
PRODID:-//Deutscher Arnis Verband e.V. - ECPv6.15.20//NONSGML v1.0//EN
CALSCALE:GREGORIAN
METHOD:PUBLISH
X-WR-CALNAME:Deutscher Arnis Verband e.V.
X-ORIGINAL-URL:https://modern-arnis.de
X-WR-CALDESC:Veranstaltungen für Deutscher Arnis Verband e.V.
REFRESH-INTERVAL;VALUE=DURATION:PT1H
X-Robots-Tag:noindex
X-PUBLISHED-TTL:PT1H
BEGIN:VTIMEZONE
TZID:Europe/Berlin
BEGIN:DAYLIGHT
TZOFFSETFROM:+0100
TZOFFSETTO:+0200
TZNAME:CEST
DTSTART:20230326T010000
END:DAYLIGHT
BEGIN:STANDARD
TZOFFSETFROM:+0200
TZOFFSETTO:+0100
TZNAME:CET
DTSTART:20231029T010000
END:STANDARD
BEGIN:DAYLIGHT
TZOFFSETFROM:+0100
TZOFFSETTO:+0200
TZNAME:CEST
DTSTART:20240331T010000
END:DAYLIGHT
BEGIN:STANDARD
TZOFFSETFROM:+0200
TZOFFSETTO:+0100
TZNAME:CET
DTSTART:20241027T010000
END:STANDARD
BEGIN:DAYLIGHT
TZOFFSETFROM:+0100
TZOFFSETTO:+0200
TZNAME:CEST
DTSTART:20250330T010000
END:DAYLIGHT
BEGIN:STANDARD
TZOFFSETFROM:+0200
TZOFFSETTO:+0100
TZNAME:CET
DTSTART:20251026T010000
END:STANDARD
BEGIN:DAYLIGHT
TZOFFSETFROM:+0100
TZOFFSETTO:+0200
TZNAME:CEST
DTSTART:20260329T010000
END:DAYLIGHT
BEGIN:STANDARD
TZOFFSETFROM:+0200
TZOFFSETTO:+0100
TZNAME:CET
DTSTART:20261025T010000
END:STANDARD
END:VTIMEZONE
BEGIN:VEVENT
DTSTART;TZID=Europe/Berlin:20251213T140000
DTEND;TZID=Europe/Berlin:20251213T180000
DTSTAMP:20260422T133355
CREATED:20251027T190224Z
LAST-MODIFIED:20251116T160630Z
UID:10000181-1765634400-1765648800@modern-arnis.de
SUMMARY:SM Carsten Hemmersbach\, 7. DAN Modern Arnis
DESCRIPTION:
URL:https://modern-arnis.de/events/sm-carsten-hemmersbach-7-dan-modern-arnis-koeln-frechen/
LOCATION:Kampfsportcenter Frechen\, Kölner -strasse 180 - 182\, Frechen\, NRW\, 50226\, Deutschland
ORGANIZER;CN="SM Carsten Hemmersbach":MAILTO:hello@kcf-frechen.de
END:VEVENT
BEGIN:VEVENT
DTSTART;TZID=Europe/Berlin:20250706T120000
DTEND;TZID=Europe/Berlin:20250706T140000
DTSTAMP:20260422T133355
CREATED:20250521T202638Z
LAST-MODIFIED:20250610T073145Z
UID:10000164-1751803200-1751810400@modern-arnis.de
SUMMARY:SM Carsten Hemmersbach\, 7. DAN Modern Arnis - Frechen
DESCRIPTION:
URL:https://modern-arnis.de/events/sm-carsten-hemmersbach-7-dan-modern-arnis-frechen/
LOCATION:Kampfsportcenter Frechen\, Kölner -strasse 180 - 182\, Frechen\, NRW\, 50226\, Deutschland
ORGANIZER;CN="SM Carsten Hemmersbach":MAILTO:hello@kcf-frechen.de
END:VEVENT
BEGIN:VEVENT
DTSTART;TZID=Europe/Berlin:20241214T140000
DTEND;TZID=Europe/Berlin:20241214T180000
DTSTAMP:20260422T133355
CREATED:20241110T170100Z
LAST-MODIFIED:20241110T170118Z
UID:10000111-1734184800-1734199200@modern-arnis.de
SUMMARY:M Carsten Hemmersbach\, 7.DAN Modern Arnis – Frechen
DESCRIPTION:Zum Jahrende werden wir auf sehr kurze Messer-Abwehr und Verteidigung gegen Stockangriffe eingehen. Auf Wunsch können auch Elemente des Prüfungsprogrammes trainiert werden.
URL:https://modern-arnis.de/events/m-carsten-hemmersbach-7-dan-modern-arnis-frechen/
LOCATION:Kampfsportcenter Frechen\, Kölner -strasse 180 - 182\, Frechen\, NRW\, 50226\, Deutschland
ORGANIZER;CN="SM Carsten Hemmersbach":MAILTO:hello@kcf-frechen.de
END:VEVENT
END:VCALENDAR