BEGIN:VCALENDAR
VERSION:2.0
PRODID:-//Deutscher Arnis Verband e.V. - ECPv6.15.20//NONSGML v1.0//EN
CALSCALE:GREGORIAN
METHOD:PUBLISH
X-WR-CALNAME:Deutscher Arnis Verband e.V.
X-ORIGINAL-URL:https://modern-arnis.de
X-WR-CALDESC:Veranstaltungen für Deutscher Arnis Verband e.V.
REFRESH-INTERVAL;VALUE=DURATION:PT1H
X-Robots-Tag:noindex
X-PUBLISHED-TTL:PT1H
BEGIN:VTIMEZONE
TZID:Europe/Berlin
BEGIN:DAYLIGHT
TZOFFSETFROM:+0100
TZOFFSETTO:+0200
TZNAME:CEST
DTSTART:20250330T010000
END:DAYLIGHT
BEGIN:STANDARD
TZOFFSETFROM:+0200
TZOFFSETTO:+0100
TZNAME:CET
DTSTART:20251026T010000
END:STANDARD
BEGIN:DAYLIGHT
TZOFFSETFROM:+0100
TZOFFSETTO:+0200
TZNAME:CEST
DTSTART:20260329T010000
END:DAYLIGHT
BEGIN:STANDARD
TZOFFSETFROM:+0200
TZOFFSETTO:+0100
TZNAME:CET
DTSTART:20261025T010000
END:STANDARD
BEGIN:DAYLIGHT
TZOFFSETFROM:+0100
TZOFFSETTO:+0200
TZNAME:CEST
DTSTART:20270328T010000
END:DAYLIGHT
BEGIN:STANDARD
TZOFFSETFROM:+0200
TZOFFSETTO:+0100
TZNAME:CET
DTSTART:20271031T010000
END:STANDARD
END:VTIMEZONE
BEGIN:VEVENT
DTSTART;TZID=Europe/Berlin:20260425T140000
DTEND;TZID=Europe/Berlin:20260425T180000
DTSTAMP:20260420T115248
CREATED:20260217T170816Z
LAST-MODIFIED:20260217T170816Z
UID:10000208-1777125600-1777140000@modern-arnis.de
SUMMARY:GM Datu Dieter Knüttel\, 10. DAN Modern Arnis
DESCRIPTION:
URL:https://modern-arnis.de/events/gm-datu-dieter-knuettel-10-dan-modern-arnis-4/
LOCATION:ASG Altenkirchen 1883 e.V.\, Glockenspitze\, Altenkirchen\, 57610
ORGANIZER;CN="Mike Lange":MAILTO:Lange_mike@hotmail.com
END:VEVENT
END:VCALENDAR