BEGIN:VCALENDAR
VERSION:2.0
PRODID:-//Deutscher Arnis Verband e.V. - ECPv6.15.20//NONSGML v1.0//EN
CALSCALE:GREGORIAN
METHOD:PUBLISH
X-WR-CALNAME:Deutscher Arnis Verband e.V.
X-ORIGINAL-URL:https://modern-arnis.de
X-WR-CALDESC:Veranstaltungen für Deutscher Arnis Verband e.V.
REFRESH-INTERVAL;VALUE=DURATION:PT1H
X-Robots-Tag:noindex
X-PUBLISHED-TTL:PT1H
BEGIN:VTIMEZONE
TZID:Europe/Berlin
BEGIN:DAYLIGHT
TZOFFSETFROM:+0100
TZOFFSETTO:+0200
TZNAME:CEST
DTSTART:20220327T010000
END:DAYLIGHT
BEGIN:STANDARD
TZOFFSETFROM:+0200
TZOFFSETTO:+0100
TZNAME:CET
DTSTART:20221030T010000
END:STANDARD
BEGIN:DAYLIGHT
TZOFFSETFROM:+0100
TZOFFSETTO:+0200
TZNAME:CEST
DTSTART:20230326T010000
END:DAYLIGHT
BEGIN:STANDARD
TZOFFSETFROM:+0200
TZOFFSETTO:+0100
TZNAME:CET
DTSTART:20231029T010000
END:STANDARD
BEGIN:DAYLIGHT
TZOFFSETFROM:+0100
TZOFFSETTO:+0200
TZNAME:CEST
DTSTART:20240331T010000
END:DAYLIGHT
BEGIN:STANDARD
TZOFFSETFROM:+0200
TZOFFSETTO:+0100
TZNAME:CET
DTSTART:20241027T010000
END:STANDARD
END:VTIMEZONE
BEGIN:VEVENT
DTSTART;TZID=Europe/Berlin:20231125T130000
DTEND;TZID=Europe/Berlin:20231125T180000
DTSTAMP:20260420T090739
CREATED:20230920T121003Z
LAST-MODIFIED:20231119T175916Z
UID:10000026-1700917200-1700935200@modern-arnis.de
SUMMARY:SG Simone Koch\, 5. DAN Modern Arnis & SG Mike Lange\, 4. DAN Modern Arnis - Bonn
DESCRIPTION:[pdfjs-viewer url=”https://modern-arnis.de/wp-content/uploads/2023/09/25.11.2023.MA_.LG_.BN-.pdf” attachment_id=”2091″ viewer_width=100% viewer_height=800px fullscreen=false download=true print=true] \n 
URL:https://modern-arnis.de/events/simone-koch-5-dan-mike-lange-4-dan/
LOCATION:Dae Mahng e.V Bonn\, Loestrasse 14\, Ecke Bonner Talweg\, Bonn\, 53113\, Deutschland
END:VEVENT
END:VCALENDAR