BEGIN:VCALENDAR
VERSION:2.0
PRODID:-//Deutscher Arnis Verband e.V. - ECPv6.15.20//NONSGML v1.0//EN
CALSCALE:GREGORIAN
METHOD:PUBLISH
X-ORIGINAL-URL:https://modern-arnis.de
X-WR-CALDESC:Veranstaltungen für Deutscher Arnis Verband e.V.
REFRESH-INTERVAL;VALUE=DURATION:PT1H
X-Robots-Tag:noindex
X-PUBLISHED-TTL:PT1H
BEGIN:VTIMEZONE
TZID:Europe/Berlin
BEGIN:DAYLIGHT
TZOFFSETFROM:+0100
TZOFFSETTO:+0200
TZNAME:CEST
DTSTART:20220327T010000
END:DAYLIGHT
BEGIN:STANDARD
TZOFFSETFROM:+0200
TZOFFSETTO:+0100
TZNAME:CET
DTSTART:20221030T010000
END:STANDARD
BEGIN:DAYLIGHT
TZOFFSETFROM:+0100
TZOFFSETTO:+0200
TZNAME:CEST
DTSTART:20230326T010000
END:DAYLIGHT
BEGIN:STANDARD
TZOFFSETFROM:+0200
TZOFFSETTO:+0100
TZNAME:CET
DTSTART:20231029T010000
END:STANDARD
BEGIN:DAYLIGHT
TZOFFSETFROM:+0100
TZOFFSETTO:+0200
TZNAME:CEST
DTSTART:20240331T010000
END:DAYLIGHT
BEGIN:STANDARD
TZOFFSETFROM:+0200
TZOFFSETTO:+0100
TZNAME:CET
DTSTART:20241027T010000
END:STANDARD
BEGIN:DAYLIGHT
TZOFFSETFROM:+0100
TZOFFSETTO:+0200
TZNAME:CEST
DTSTART:20250330T010000
END:DAYLIGHT
BEGIN:STANDARD
TZOFFSETFROM:+0200
TZOFFSETTO:+0100
TZNAME:CET
DTSTART:20251026T010000
END:STANDARD
BEGIN:DAYLIGHT
TZOFFSETFROM:+0100
TZOFFSETTO:+0200
TZNAME:CEST
DTSTART:20260329T010000
END:DAYLIGHT
BEGIN:STANDARD
TZOFFSETFROM:+0200
TZOFFSETTO:+0100
TZNAME:CET
DTSTART:20261025T010000
END:STANDARD
END:VTIMEZONE
BEGIN:VEVENT
DTSTART;TZID=Europe/Berlin:20250725T200000
DTEND;TZID=Europe/Berlin:20250725T220000
DTSTAMP:20260424T112808
CREATED:20250127T173810Z
LAST-MODIFIED:20250610T073352Z
UID:10000146-1753473600-1753480800@modern-arnis.de
SUMMARY:M Benedikt Eska\, 6.DAN Modern Arnis – München (DAN Spezial)
DESCRIPTION:DAN-Spezial ab 1.Klase\nAnmeldung erforderlich\, da ihr sonst evtl. vor verschlossener Tür steht…
URL:https://modern-arnis.de/events/m-benedikt-eska-6-dan-modern-arnis-muenchen-dan-spezial-3/
LOCATION:ESV München\, Margarethe-Danzi-Straße 21\, München\, 80639\, Deutschland
ORGANIZER;CN="M Benedikt Eska":MAILTO:Lehrgang@arnis-muenchen.de
END:VEVENT
BEGIN:VEVENT
DTSTART;TZID=Europe/Berlin:20250627T200000
DTEND;TZID=Europe/Berlin:20250627T220000
DTSTAMP:20260424T112808
CREATED:20250127T173713Z
LAST-MODIFIED:20250610T064820Z
UID:10000145-1751054400-1751061600@modern-arnis.de
SUMMARY:M Benedikt Eska\, 6.DAN Modern Arnis – München (DAN Spezial)
DESCRIPTION:  \nDAN-Spezial ab 1.Klase\nAnmeldung erforderlich\, da ihr sonst evtl. vor verschlossener Tür steht…
URL:https://modern-arnis.de/events/m-benedikt-eska-6-dan-modern-arnis-muenchen-dan-spezial-2/
LOCATION:ESV München\, Margarethe-Danzi-Straße 21\, München\, 80639\, Deutschland
ORGANIZER;CN="M Benedikt Eska":MAILTO:Lehrgang@arnis-muenchen.de
END:VEVENT
BEGIN:VEVENT
DTSTART;VALUE=DATE:20250523
DTEND;VALUE=DATE:20250524
DTSTAMP:20260424T112808
CREATED:20250127T173626Z
LAST-MODIFIED:20250204T212225Z
UID:10000143-1747958400-1748044799@modern-arnis.de
SUMMARY:M Benedikt Eska\, 6.DAN Modern Arnis – München (Trainerfortbildung)
DESCRIPTION:Trainerfortbildung\nAnmeldung erforderlich\, da ihr sonst evtl. vor verschlossener Tür steht…
URL:https://modern-arnis.de/events/m-benedikt-eska-6-dan-modern-arnis-muenchen-trainerfortbildung-2/
LOCATION:ESV München\, Margarethe-Danzi-Straße 21\, München\, 80639\, Deutschland
ORGANIZER;CN="M Benedikt Eska":MAILTO:Lehrgang@arnis-muenchen.de
END:VEVENT
BEGIN:VEVENT
DTSTART;VALUE=DATE:20250328
DTEND;VALUE=DATE:20250329
DTSTAMP:20260424T112808
CREATED:20250127T173507Z
LAST-MODIFIED:20250204T212146Z
UID:10000144-1743120000-1743206399@modern-arnis.de
SUMMARY:M Benedikt Eska\, 6.DAN Modern Arnis – München (DAN Spezial)
DESCRIPTION:DAN Spezial ab 1.Klase\nAnmeldung erforderlich\, da ihr sonst evtl. vor verschlossener Tür steht…
URL:https://modern-arnis.de/events/m-benedikt-eska-6-dan-modern-arnis-muenchen-dan-spezial/
LOCATION:ESV München\, Margarethe-Danzi-Straße 21\, München\, 80639\, Deutschland
ORGANIZER;CN="M Benedikt Eska":MAILTO:Lehrgang@arnis-muenchen.de
END:VEVENT
BEGIN:VEVENT
DTSTART;VALUE=DATE:20250316
DTEND;VALUE=DATE:20250317
DTSTAMP:20260424T112808
CREATED:20250102T151713Z
LAST-MODIFIED:20250204T212056Z
UID:10000137-1742083200-1742169599@modern-arnis.de
SUMMARY:SG Hartmut Roth\, SG Hans Wieser & SG Holger Lindner\, 5. DAN Modern Arnis - München (Drei Schwaben auf einen Streich)
DESCRIPTION:Die drei 5. Dan Träger aus Raum Stuttgart besuchen München\nLehrgang mit Senior Guro Hartmut Roth\, Senior Guro Hans Wieser\, Senior Guro Holger Lindner\nJeder unterrichtet ca. 1\,5 Stunden und eine formale Pause von 30 Minuten ist eingeplant. \nWegen drei Referenten plus längerer Lehrgangsdauer auch etwas höhere Kosten von 30 Euro für DAV Mitglieder
URL:https://modern-arnis.de/events/sg-hartmut-roth-sg-hans-wieser-sg-holger-lindner-5-dan-modern-arnis-muenchen-drei-schwaben-auf-einen-streich/
LOCATION:ESV München\, Margarethe-Danzi-Straße 21\, München\, 80639\, Deutschland
ORGANIZER;CN="M Benedikt Eska":MAILTO:Lehrgang@arnis-muenchen.de
END:VEVENT
BEGIN:VEVENT
DTSTART;VALUE=DATE:20250221
DTEND;VALUE=DATE:20250222
DTSTAMP:20260424T112808
CREATED:20250127T173910Z
LAST-MODIFIED:20250204T212002Z
UID:10000142-1740096000-1740182399@modern-arnis.de
SUMMARY:M Benedikt Eska\, 6.DAN Modern Arnis – München (Trainerfortbildung)
DESCRIPTION:Trainerfortbildung \nunbedingt anmelden\, da ihr sonst vielleicht vor geschlossener Tür steht…
URL:https://modern-arnis.de/events/m-benedikt-eska-6-dan-modern-arnis-muenchen-trainerfortbildung-3/
LOCATION:ESV München\, Margarethe-Danzi-Straße 21\, München\, 80639\, Deutschland
ORGANIZER;CN="M Benedikt Eska":MAILTO:Lehrgang@arnis-muenchen.de
END:VEVENT
BEGIN:VEVENT
DTSTART;TZID=Europe/Berlin:20241213T200000
DTEND;TZID=Europe/Berlin:20241213T220000
DTSTAMP:20260424T112808
CREATED:20241107T202206Z
LAST-MODIFIED:20241107T202206Z
UID:10000106-1734120000-1734127200@modern-arnis.de
SUMMARY:M Benedikt Eska\, 6.DAN Modern Arnis - München (Trainer/innen Fortbildung)
DESCRIPTION:
URL:https://modern-arnis.de/events/m-benedikt-eska-6-dan-modern-arnis-muenchen-trainer-innen-fortbildung/
LOCATION:ESV München\, Margarethe-Danzi-Straße 21\, München\, 80639\, Deutschland
ORGANIZER;CN="M Benedikt Eska":MAILTO:Lehrgang@arnis-muenchen.de
END:VEVENT
BEGIN:VEVENT
DTSTART;TZID=Europe/Berlin:20241115T200000
DTEND;TZID=Europe/Berlin:20241115T220000
DTSTAMP:20260424T112808
CREATED:20240924T083546Z
LAST-MODIFIED:20241107T202338Z
UID:10000097-1731700800-1731708000@modern-arnis.de
SUMMARY:M Benedikt Eska\, 6.DAN Modern Arnis - München (Trainer/innen Fortbildung)
DESCRIPTION:Themenschwerpunkt: Das Weiss- und Gelbgurt-Prüfungsprogramm\nStart Fortbildung um 20 Uhr\nWer will kann schon ab 18:30 Uhr in unser reguläres Training kommen.\nbitte anmelden\, da wir euch um die Uhrzeit reinlassen müssen. lehrgang @ arnis-muenchen.de
URL:https://modern-arnis.de/events/m-benedikt-eska-6-dan-modern-arnis-muenchen-trainerfortbildung/
LOCATION:ESV München\, Margarethe-Danzi-Straße 21\, München\, 80639\, Deutschland
END:VEVENT
BEGIN:VEVENT
DTSTART;VALUE=DATE:20241109
DTEND;VALUE=DATE:20241111
DTSTAMP:20260424T112808
CREATED:20240607T192835Z
LAST-MODIFIED:20240613T142318Z
UID:10000090-1731110400-1731283199@modern-arnis.de
SUMMARY:SG Simone Koch & SG Carola Maucher\, 5. DAN Modern Arnis – München / Aying
DESCRIPTION:
URL:https://modern-arnis.de/events/sg-simone-koch-sg-carola-maucher-5-dan-modern-arnis-muenchen-aying/
LOCATION:ESV München\, Margarethe-Danzi-Straße 21\, München\, 80639\, Deutschland
ORGANIZER;CN="M Benedikt Eska":MAILTO:Lehrgang@arnis-muenchen.de
END:VEVENT
BEGIN:VEVENT
DTSTART;TZID=Europe/Berlin:20241004T183000
DTEND;TZID=Europe/Berlin:20241004T200000
DTSTAMP:20260424T112808
CREATED:20240924T083404Z
LAST-MODIFIED:20241001T120816Z
UID:10000098-1728066600-1728072000@modern-arnis.de
SUMMARY:M Carsten Hemmersbach\, 7.DAN Modern Arnis – München
DESCRIPTION:  \n  \nAn einem Freitag im zeitlichen Rahmen unseres normalen Trainings. Achtung! Anmeldung erforderlich\, da wir euch reinlassen müssen. lehrgang@arnis-muenchen.de
URL:https://modern-arnis.de/events/m-carsten-hemmersbach-6-dan-modern-arnis-muenchen-2/
LOCATION:ESV München\, Margarethe-Danzi-Straße 21\, München\, 80639\, Deutschland
END:VEVENT
BEGIN:VEVENT
DTSTART;VALUE=DATE:20240426
DTEND;VALUE=DATE:20240429
DTSTAMP:20260424T112809
CREATED:20240212T120605Z
LAST-MODIFIED:20240212T121521Z
UID:10000067-1714172400-1714345199@modern-arnis.de
SUMMARY:GM Datu Dieter Knüttel\, 10. DAN Modern Arnis - Aying / München
DESCRIPTION:[pdfjs-viewer url=”https://modern-arnis.de/wp-content/uploads/2024/02/2024-04-Datu-Dieter-Knuettel-1.pdf” attachment_id=”2091″ viewer_width=100% viewer_height=800px fullscreen=false download=true print=true]
URL:https://modern-arnis.de/events/gm-datu-dieter-knuettel-10-dan-modern-arnis-aying-muenchen/
LOCATION:Bushido Aying\, Saliterstr. 5\, Aying\, 85653
ORGANIZER;CN="Tom Niedziela":MAILTO:Thomasniedziela@gmail.com
END:VEVENT
BEGIN:VEVENT
DTSTART;TZID=Europe/Berlin:20231111T130000
DTEND;TZID=Europe/Berlin:20231111T170000
DTSTAMP:20260424T112809
CREATED:20230908T085428Z
LAST-MODIFIED:20230908T205902Z
UID:10000015-1699707600-1699722000@modern-arnis.de
SUMMARY:M Carsten Hemmersbach\, 6. DAN Modern Arnis - München
DESCRIPTION:[pdfjs-viewer url=”https://modern-arnis.de/wp-content/uploads/2023/09/2023-11_M_Carsten_v3.pdf” attachment_id=”2091″ viewer_width=100% viewer_height=800px fullscreen=false download=true print=true]
URL:https://modern-arnis.de/events/m-carsten-hemmersbach-6-dan-modern-arnis-muenchen/
LOCATION:ESV München\, Margarethe-Danzi-Straße 21\, München\, 80639\, Deutschland
ORGANIZER;CN="M Benedikt Eska":MAILTO:Lehrgang@arnis-muenchen.de
END:VEVENT
END:VCALENDAR